BEGIN:VCALENDAR
VERSION:2.0
PRODID:-//The Infamous Art Collective - ECPv6.0.12//NONSGML v1.0//EN
CALSCALE:GREGORIAN
METHOD:PUBLISH
X-WR-CALNAME:The Infamous Art Collective
X-ORIGINAL-URL:https://infamousartcollective.com
X-WR-CALDESC:Events for The Infamous Art Collective
REFRESH-INTERVAL;VALUE=DURATION:PT1H
X-Robots-Tag:noindex
X-PUBLISHED-TTL:PT1H
BEGIN:VTIMEZONE
TZID:UTC
BEGIN:STANDARD
TZOFFSETFROM:+0000
TZOFFSETTO:+0000
TZNAME:UTC
DTSTART:20210101T000000
END:STANDARD
END:VTIMEZONE
BEGIN:VEVENT
DTSTART;TZID=UTC:20210925T180000
DTEND;TZID=UTC:20210925T230000
DTSTAMP:20260425T105513
CREATED:20210812T172247Z
LAST-MODIFIED:20210915T024030Z
UID:177-1632592800-1632610800@infamousartcollective.com
SUMMARY:Synesthesia: Do you see what I hear?
DESCRIPTION:What is it that brings two souls together? From what well does this Hearing color? Seeing sound? This union of the senses\, a phenomenon known as Synesthesia\, is when one sensory pathway leads to experiences on another sensory pathway. We hope you’ll join The Infamous Art Collective as we perceive together\, “Synesthesia: Do you see what I hear?
URL:https://infamousartcollective.com/index.php/event/how-strangely-our-souls-connect-art-exhibition/
LOCATION:Infamous Art Collective\, 38 East Main Street\, Buckhannon\, WV\, 26201\, United States
END:VEVENT
END:VCALENDAR