BEGIN:VCALENDAR
VERSION:2.0
PRODID:-//The Infamous Art Collective - ECPv6.0.12//NONSGML v1.0//EN
CALSCALE:GREGORIAN
METHOD:PUBLISH
X-ORIGINAL-URL:https://infamousartcollective.com
X-WR-CALDESC:Events for The Infamous Art Collective
REFRESH-INTERVAL;VALUE=DURATION:PT1H
X-Robots-Tag:noindex
X-PUBLISHED-TTL:PT1H
BEGIN:VTIMEZONE
TZID:UTC
BEGIN:STANDARD
TZOFFSETFROM:+0000
TZOFFSETTO:+0000
TZNAME:UTC
DTSTART:20230101T000000
END:STANDARD
END:VTIMEZONE
BEGIN:VEVENT
DTSTART;TZID=UTC:20230429T180000
DTEND;TZID=UTC:20230429T233000
DTSTAMP:20260425T131935
CREATED:20221229T211222Z
LAST-MODIFIED:20230419T154521Z
UID:593-1682791200-1682811000@infamousartcollective.com
SUMMARY:The Deuce is Wild!
DESCRIPTION:Good things come in pairs and one creative pair we love is local Art and Music. It’s a celebration of the 2 year anniversary of The Infamous Art Collective we couldn’t be more excited to celebrate with you. So join us at The Infamous Art Gallery on April 29th for “The Deuce is Wild!” A fine art exhibition. Musical guests include jazz artists\, The Jazz Caps Trio. We will have fresh art by both the youth and adult collective. Cupcakes by Bake Me Happy and more! Event is free but donations are accepted and greatly appreciated.
URL:https://infamousartcollective.com/index.php/event/somewhere-between-forsaken-abandoned/
ATTACH;FMTTYPE=image/png:https://infamousartcollective.com/wp-content/uploads/2023/04/4-23-theDueceisWild-Facebook.png
END:VEVENT
END:VCALENDAR